BEGIN:VCALENDAR
VERSION:2.0
PRODID:spatie/icalendar-generator
NAME:PePe Online-Workshop: Mentale Gesundheit im Unternehmen - Gesunde Füh
 rungskräfte\, gesunde Teams
X-WR-CALNAME:PePe Online-Workshop: Mentale Gesundheit im Unternehmen - Gesu
 nde Führungskräfte\, gesunde Teams
BEGIN:VTIMEZONE
TZID:Europe/Berlin
BEGIN:STANDARD
DTSTART:20251026T030000
TZOFFSETFROM:+0200
TZOFFSETTO:+0100
END:STANDARD
BEGIN:DAYLIGHT
DTSTART:20260329T010000
TZOFFSETFROM:+0100
TZOFFSETTO:+0200
END:DAYLIGHT
BEGIN:STANDARD
DTSTART:20261025T030000
TZOFFSETFROM:+0200
TZOFFSETTO:+0100
END:STANDARD
END:VTIMEZONE
BEGIN:VTIMEZONE
TZID:UTC
BEGIN:STANDARD
DTSTART:20250728T175412
TZOFFSETFROM:+0000
TZOFFSETTO:+0000
END:STANDARD
END:VTIMEZONE
BEGIN:VEVENT
UID:69ebae447263b
DTSTAMP:20260424T175412Z
SUMMARY:PePe Online-Workshop: Mentale Gesundheit im Unternehmen - Gesunde F
 ührungskräfte\, gesunde Teams
DESCRIPTION:Immer wiederkehrender Stress und herausfordernde Situationen im
  Arbeitsalltag können starken Einfluss auf die mentale Gesundheit von Mit
 arbeitenden haben. Doch wie entsteht Stress überhaupt und welche Rolle tr
 agen Führungskräfte gegenüber ihren Teams – und welche auch nicht? Le
 rne in unserem interaktiven und praxisnahen Impuls unter anderem\, warum m
 entale Gesundheit ein Führungsthema ist\, welche Methoden und Tools es gi
 bt und wie man das Thema wirksam im Unternehmen verankert.\n\nDiese Fragen
  wird unsere Referentin im Workshop konkret behandeln:\nWarum ist mentale 
 Gesundheit ein harter Wirtschaftsfaktor?\nWie entsteht Stress – und wo l
 iegen die Auslöser im Unternehmen?\nWelche Rolle haben Führungskräfte f
 ür gesunde Teams?\nUnd wie sorgen Führungskräfte für ihre eigene menta
 le Gesundheit?\nWo fange ich an\, wenn noch kein betriebliches Gesundheits
 management existiert?\n\nUnsere ReferentinBritta Brechtel ist Inhaberin vo
 n Soulbreak in Kiel und als systemische psychologische Coachin auf mentale
  Gesundheit in Unternehmen spezialisiert. Mit betriebswirtschaftlichem Hin
 tergrund und über zwanzig Jahren Erfahrung in Führung\, HR und Geschäft
 sführung kennt sie diese Perspektive aus eigener Praxis und bringt sie mi
 t dem Thema mentale Gesundheit in Verbindung. \n\nDer Online-Impuls findet
  über Zoom statt. Bitte stelle vorab sicher\, dass dein Mikrofon und dein
 e Kamera funktionieren. So kannst du problemlos Fragen stellen und in den 
 Austausch gehen. Den Zugangslink zum Meeting senden wir dir einen Tag vorh
 er per Mail zu. \n\nDer Workshop gehört zu unserer Reihe \"Perspektive Pe
 rsonal\" und ist für alle Teilnehmerinnen und Teilnehmer kostenfrei.\n\n\
 n
LOCATION:online via Zoom
URL:https://event.wfg-nf.de/event/AQ69pGor
DTSTART;TZID=Europe/Berlin:20260518T093000
DTEND;TZID=Europe/Berlin:20260518T110000
END:VEVENT
END:VCALENDAR