BEGIN:VCALENDAR
VERSION:2.0
PRODID:spatie/icalendar-generator
NAME:Komm in Gang – Barcamp for Future 2025!
X-WR-CALNAME:Komm in Gang – Barcamp for Future 2025!
BEGIN:VTIMEZONE
TZID:Europe/Berlin
BEGIN:DAYLIGHT
DTSTART:20250330T010000
TZOFFSETFROM:+0100
TZOFFSETTO:+0200
END:DAYLIGHT
BEGIN:STANDARD
DTSTART:20251026T030000
TZOFFSETFROM:+0200
TZOFFSETTO:+0100
END:STANDARD
BEGIN:DAYLIGHT
DTSTART:20260329T010000
TZOFFSETFROM:+0100
TZOFFSETTO:+0200
END:DAYLIGHT
END:VTIMEZONE
BEGIN:VTIMEZONE
TZID:UTC
BEGIN:STANDARD
DTSTART:20250724T182020
TZOFFSETFROM:+0000
TZOFFSETTO:+0000
END:STANDARD
END:VTIMEZONE
BEGIN:VEVENT
UID:69e66e640ce82
DTSTAMP:20260420T182020Z
SUMMARY:Komm in Gang – Barcamp for Future 2025!
DESCRIPTION:Zukunft entsteht aus Zusammenarbeit.\nDu möchtest Nachhaltigke
 it in deinem Unternehmen\, deiner Organisation oder deinem Umfeld aktiv vo
 ranbringen? Du hast Erfahrungen\, Ideen oder jede Menge Fragen und suchst 
 Menschen\, mit denen du dich auf Augenhöhe austauschen kannst? Dann bist 
 du beim Barcamp for Future genau richtig! \n\nDenn Nachhaltigkeit lebt von
  Zusammenarbeit. Transformationen entstehen nicht im Alleingang\, sondern 
 brauchen Kooperation über Sektor-\, Branchen- und Denkrichtungen hinweg. 
 Deshalb stellen wir dieses Mal das Miteinander besonders in den Mittelpunk
 t. \n\nKöpfe vernetzen. Kooperationen schaffen.\nUnter diesem Leitgedanke
 n bringen wir Menschen zusammen\, die die Zukunft gemeinsam gestalten woll
 en.\n\n👉 Donnerstag\, den 04. Dezember 2025 | 09:00 bis 16:30 Uhr |\nMe
 sse Husum &amp\; Congress\, Am Messeplatz 12-18\, 25813 Husum\nAblauf09.00
  bis 10.00 Uhr | Ankommen\, Kaffee &amp\; gemeinsames Frühstück\n10.00 b
 is 10.45 Uhr | Sessionplanung\n11.00 bis 11.45 Uhr | Session-Runde 1\n12.0
 0 bis 12.45 Uhr | Session-Runde 2\n12.45 bis 14.00 Uhr | Mittagessen\n14.0
 0 bis 14.45 Uhr | Session-Runde 3\n15.00 bis 15.45 Uhr | Session-Runde 4\n
 ab circa 16.00 Uhr | Abschluss &amp\; Feedback\n\nSessions (je 45 min)\n\n
 Worum geht's bei einem Barcamp?Barcamps sind Netzwerk-Veranstaltungen mit 
 dem gewissen Extra. Die Agenda der Veranstaltung steht erst am Veranstaltu
 ngsmorgen nach der gemeinsamen \"Sessionplanung\" fest. Alle Teilnehmenden
  sind Mitmacher:innen\, können die Veranstaltung durch eigene Sessions mi
 tgestalten\, sich aktiv in Diskussionen einbringen oder sich ganz entspann
 t vom Know-How der anderen Teilnehmenden inspirieren lassen.Im Fokus steht
  das Vernetzen mit regionalen und überregionalen Akteur:innen rund um das
  Thema “Nachhaltiges Wirtschaften”. Und darauf freuen wir uns sehr!Anj
 a Kujawski\, Projektmanagerin Interreg-Projekt GrønBusiness\n\nFür wen i
 st die Veranstaltung?\nEgal\, ob du Einsteiger:in oder Nachhaltigkeitsprof
 i\, Fach- oder Führungskraft\, Unternehmer:in\, Gründer:in\, Berater:in\
 , kommunale:r Akteur:in\, Barcamp-Fan oder Neugierige:r aus der deutsch-d
 änischen Grenzregion bist: Beim Barcamp for Future 2025 treffen sich enga
 gierte Menschen aus der Region\, um gemeinsam zu lernen\, sich zu vernetze
 n und neue Impulse zu setzen. Ganz gleich\, welches Level an Erfahrungen d
 u mitbringst – du bist herzlich willkommen\, wenn du Freude am Austausch
  und Interesse am Thema „Nachhaltigkeit“ mitbringst.\nOrganisation:\nD
 ie Teilnahme ist kostenfrei. Die Veranstaltung wird organisiert und finanz
 iert durch das Interreg6A-Projekt GrønBusiness (gefördert durch Interreg
  Deutschland-Danmark)\, das Projekt Digital Learning Campus Westküste PLU
 S (Kofinanzierung durch die Europäische Union (EFRE) und das Land Schlesw
 ig-Holstein) und das Projekt Klimaneutrale Wirtschaft NF (KliWi NF).Weiter
 e Unterstützer der Veranstaltung: \nAbfallwirtschaftsgesellschaft Nordfri
 esland mbH | Küste gegen Plastik e.V. | Fairtrade Stadt Niebüll | DiWiSH
 \n\n\n
LOCATION:Messe Husum & Congress\, Am Messeplatz 12-18\, 25813 Husum
URL:https://event.wfg-nf.de/event/Jx6WRmdr
DTSTART;TZID=Europe/Berlin:20251204T090000
DTEND;TZID=Europe/Berlin:20251204T163000
END:VEVENT
END:VCALENDAR