BEGIN:VCALENDAR
VERSION:2.0
PRODID:spatie/icalendar-generator
NAME:Blaue Bioökonomie
X-WR-CALNAME:Blaue Bioökonomie
BEGIN:VTIMEZONE
TZID:Europe/Berlin
BEGIN:STANDARD
DTSTART:20251026T030000
TZOFFSETFROM:+0200
TZOFFSETTO:+0100
END:STANDARD
BEGIN:DAYLIGHT
DTSTART:20260329T010000
TZOFFSETFROM:+0100
TZOFFSETTO:+0200
END:DAYLIGHT
END:VTIMEZONE
BEGIN:VTIMEZONE
TZID:UTC
BEGIN:STANDARD
DTSTART:20250724T025310
TZOFFSETFROM:+0000
TZOFFSETTO:+0000
END:STANDARD
END:VTIMEZONE
BEGIN:VEVENT
UID:69e5951672bbf
DTSTAMP:20260420T025310Z
SUMMARY:Blaue Bioökonomie
DESCRIPTION:Werkstatt Wissenschaft Wirtschaft: Blaue Bioökonomie – Aquat
 ische Kreislaufnutzung in der Anwendung\n\nWie kann die blaue Bioökonomie
  zur nachhaltigen Entwicklung unserer Wirtschaft beitragen? Welche Rolle s
 pielen Algen\, Aquakulturen und marine Biomasse für neue Wertschöpfungsk
 etten? Und wie lassen sich Forschungsergebnisse aus diesem Bereich in die 
 Praxis überführen?\n\nDiesen Fragen widmet sich die nächste Veranstaltu
 ng der Reihe Werkstatt Wissenschaft Wirtschaft (WWW) am 14. April 2026 im 
 Gewächshaus der Gärtnersiedlung in Gönnebek.\n\nDie blaue Bioökonomie 
 beschäftigt sich mit der nachhaltigen Nutzung aquatischer biologischer Re
 ssourcen – etwa Mikroalgen\, Makroalgen oder anderen Organismen aus Meer
 en\, Küsten- und Binnengewässern. Sie eröffnet neue Möglichkeiten für
  klimafreundliche Rohstoffe\, innovative Energielösungen und zirkuläre W
 irtschaftssysteme. Gerade für Schleswig-Holstein mit seinen starken marit
 imen Forschungs- und Wirtschaftsstrukturen bietet dieses Feld großes Inno
 vationspotenzial.\n\nIm Rahmen der Veranstaltung geben Expertinnen und Exp
 erten aus Wissenschaft und Wirtschaft Einblicke in aktuelle Entwicklungen 
 und konkrete Anwendungsbeispiele:\n\n\nInnovationsraum Bioökonomie an mar
 inen Standorten – Einblicke in Netzwerke und Innovationspotenziale (BaMS
  e.V.)\n\n\nDie Rolle von Algen in der blauen bzw. bunten Bioökonomie –
  Perspektiven aus der Forschung (Christian-Albrechts-Universität zu Kiel)
 \n\n\nGärtnersiedlung Gönnebek als Modellstandort für die Entwicklung d
 er blauen Bioökonomie (Schierbecker GmbH)\n\n\nBluePathways – ein ZIM-I
 nnovationsnetzwerk für die blaue Bioökonomie (Impact Cluster GmbH)\n\n\n
 Mikroalgen-Röhren-Bioreaktoren als Solarthermie-Anlagen – neue Ansätze
  für nachhaltige Energie- und Stoffkreisläufe (MiBiCi Solutions / Botani
 sches Institut der CAU)\n\nNeben den Impulsvorträgen bietet die Veranstal
 tung Raum für Austausch\, Vernetzung und Diskussion. Ziel der WWW-Reihe i
 st es\, Wissenschaft\, Wirtschaft und öffentliche Akteure zusammenzubring
 en\, um Kooperationen anzustoßen\, Ideen weiterzuentwickeln und Innovatio
 nen schneller in die Anwendung zu bringen.\n\nDie Teilnahme an der Veranst
 altung ist kostenfrei\, eine Anmeldung ist jedoch erforderlich.\n\nOrt:\n 
 Gewächshaus Gärtnersiedlung\n Gärtnersiedlung 23\n 24610 Gönnebek\n\nD
 atum und Zeit:\n 14. April 2026\n 14:00 – 17:30 Uhr\n\n\n\n\n
LOCATION:Adresse: Gewächshaus\, Gärtnersiedlung 23\, 24610 Gönnebek
URL:https://event.wfg-nf.de/event/bK6KLBpr
DTSTART;TZID=Europe/Berlin:20260414T140000
DTEND;TZID=Europe/Berlin:20260414T173000
END:VEVENT
END:VCALENDAR