BEGIN:VCALENDAR
VERSION:2.0
PRODID:spatie/icalendar-generator
NAME:Ahoi Lieblingsland: Der (Neu-)Bürgertreff in Nordfriesland - Hofführ
 ung & Käseverkostung Backensholz
X-WR-CALNAME:Ahoi Lieblingsland: Der (Neu-)Bürgertreff in Nordfriesland - 
 Hofführung & Käseverkostung Backensholz
BEGIN:VTIMEZONE
TZID:Europe/Berlin
BEGIN:DAYLIGHT
DTSTART:20250330T010000
TZOFFSETFROM:+0100
TZOFFSETTO:+0200
END:DAYLIGHT
BEGIN:STANDARD
DTSTART:20251026T030000
TZOFFSETFROM:+0200
TZOFFSETTO:+0100
END:STANDARD
BEGIN:DAYLIGHT
DTSTART:20260329T010000
TZOFFSETFROM:+0100
TZOFFSETTO:+0200
END:DAYLIGHT
END:VTIMEZONE
BEGIN:VTIMEZONE
TZID:UTC
BEGIN:STANDARD
DTSTART:20250724T085534
TZOFFSETFROM:+0000
TZOFFSETTO:+0000
END:STANDARD
END:VTIMEZONE
BEGIN:VEVENT
UID:69e5ea0692546
DTSTAMP:20260420T085534Z
SUMMARY:Ahoi Lieblingsland: Der (Neu-)Bürgertreff in Nordfriesland - Hoff
 ührung & Käseverkostung Backensholz
DESCRIPTION:Mit dem Format „Ahoi Lieblingsland“ touren wir durch die Re
 gion und bringen Menschen zusammen\, die gerade erst angekommen sind – o
 der schon eine Weile hier leben und Anschluss suchen. Komm auch du an Bord
  der #LieblingslandCrew!\n\nLerne neue Leute kennen und entdecke die schö
 nsten Fleckchen Nordfrieslands. Bei unserem nächsten (Neu-)Bürgertreff g
 eht es raus aufs Land. Gemeinsam mit Christina und Stefanie vom MoinLiebli
 ngsland-Team besichtigst du den seit 1989 bio-zertifizierten Backensholzer
  Hof. Lerne die vielschichtigen Bereiche des nachhaltigen Betriebes kennen
  und erfahre mehr vom Backensholzer Hof als tollen regionalen Arbeitgeber.
  Das Highlight: Im Anschluss an die Hofführung gibt es ein leckeres Käse
 -Tasting im Hofbistro mit Käse aus der hofeigenen Käserei. Eine gute Gel
 egenheit zu schnacken und gleichzeitig zu snacken.\n\nAblauf:\n15.55 Uhr -
  Treffen am oben genannten Treffpunkt\n16.00 Uhr - Beginn der 45-minütige
 n Hofführung\nca. 16.45-18.00 Uhr - Kleine Käseverkostung\nGemeinsam anl
 egen. Ankommen. Loslegen. Wir freuen uns auf deine Anmeldung!\n\nDie Teiln
 ahme an der Veranstaltung ist für alle Teilnehmerinnen und Teilnehmer kos
 tenfrei. Die Anzahl der verfügbaren Plätze ist begrenzt. Bitte melde bei
  mehreren Teilnehmenden jede Person einzeln an.\n\n\n
LOCATION:Treffpunkt:\, Hofladen & Hofkäserei Backensholz\, Schwabstedter D
 amm 10\, 25885 Oster-Ohrstedt
URL:https://event.wfg-nf.de/event/bKrKLozD
DTSTART;TZID=Europe/Berlin:20251008T160000
DTEND;TZID=Europe/Berlin:20251008T180000
END:VEVENT
END:VCALENDAR